Workbook

Sheet ปริมาณขยะรายเดือน 
L1: แบบฟอร์ม 4.1(1)
A2: รายการขยะ | B2: ปริมาณ (ระบุหน่วยเป็น ก.ก. หรือ ลิตร ) ปี 2569
B3: ม.ค. | C3: ก.พ. | D3: มี.ค. | E3: เม.ย. | F3: พ.ค. | G3: มิ.ย. | H3: ก.ค. | I3: ส.ค. | J3: ก.ย. | K3: ต.ค. | L3: พ.ย. | M3: ธ.ค.
A4: ขยะทั่วไป (ฝังกลบเท่านั้น) | B4: 370.6 | C4: 336.1 | D4: 383.5 | E4: 359.8 | F4: 411.4 | G4: 420.9 | H4: 359.4 | I4: 365.6 | J4: 350.8 | K4: 341.8 | L4: 349.8 | M4: 331.3
A5: ขยะอันตราย
A6: หมึกพิมพ์ | B6: - | C6: - | D6: - | E6: - | F6: 3.5 | G6: 9.5 | H6: - | I6: - | J6: - | K6: - | L6: - | M6: -
A7: หลอดไฟ | B7: - | C7: - | D7: - | E7: - | F7: - | G7: 0.5 | H7: - | I7: - | J7: - | K7: 2.5 | L7: - | M7: -
A8: ถ่ายไฟฉาย | B8: - | C8: - | D8: - | E8: - | F8: - | G8: - | H8: 0.7 | I8: - | J8: - | K8: - | L8: - | M8: -
A9: น้ำยาลบคำผิด | B9: - | C9: - | D9: - | E9: - | F9: - | G9: - | H9: - | I9: - | J9: - | K9: - | L9: - | M9: -
A10: ขวดสเปรย์ปรับอากาศ/สเปรย์กำจัดแมลง | B10: - | C10: - | D10: - | E10: - | F10: 1.2 | G10: 0.8 | H10: 1.2 | I10: - | J10: 1.2 | K10: - | L10: - | M10: -
A11: กระป๋องน้ำยาเคมีต่าง ๆ | B11: - | C11: 0.3 | D11: 0.3 | E11: - | F11: - | G11: - | H11: - | I11: - | J11: - | K11: - | L11: - | M11: -
A12: รวมขยะอันตราย | B12: =SUM(B6:B11) -> 0 | C12: =SUM(C6:C11) -> 0.3 | D12: =SUM(D6:D11) -> 0.3 | E12: =SUM(E6:E11) -> 0 | F12: =SUM(F6:F11) -> 4.7 | G12: =SUM(G6:G11) -> 10.8 | H12: =SUM(H6:H11) -> 1.9 | I12: =SUM(I6:I11) -> 0 | ... M12: =SUM(M6:M11) -> 0
A13: ขยะรีไซเคิล / นำกลับมาใช้ใหม่
A14: กระดาษ | B14: 10.2 | C14: 3.2 | D14: 4.7 | E14: 11.6 | F14: 5.5 | G14: 8.2 | H14: 7.3 | I14: 1.9 | J14: 1.3 | K14: 27.7 | L14: 8 | M14: 19.6
A15: กล่องลัง | B15: 13.2 | C15: 15.2 | D15: 26.5 | E15: 15.5 | F15: 25.4 | G15: 16.9 | H15: 9.1 | I15: 17.3 | J15: 4.5 | K15: 20.8 | L15: 3.8 | M15: 6.3
A16: ขวดพลาสติก | B16: 6.1 | C16: 11 | D16: 5.1 | E16: 8.3 | F16: 10.1 | G16: 10.3 | H16: 14.2 | I16: 15 | J16: 9.9 | K16: 8.9 | L16: 5.8 | M16: 6.5
A17: ใบไม้ | B17: 0.6 | C17: 0.5 | D17: 2.6 | E17: 1.1 | F17: 4.1 | G17: 0.3 | H17: - | I17: - | J17: 1.2 | K17: - | L17: - | M17: -
A18: เศษอาหาร | B18: 67.4 | C18: 51.9 | D18: 93.6 | E18: 67.1 | F18: 101.5 | G18: 71 | H18: 70.1 | I18: 64.3 | J18: 72 | K18: 57.2 | L18: 47.9 | M18: 53.7
A19: รวมขยะรีไซเคิล / นำกลับมาใช้ใหม่ | B19: =SUM(B14:B18) -> 97.5 | C19: =SUM(C14:C18) -> 81.8 | D19: =SUM(D14:D18) -> 132.5 | E19: =SUM(E14:E18) -> 103.6 | F19: =SUM(F14:F18) -> 146.6 | G19: =SUM(G14:G18) -> 106.7 | H19: =SUM(H14:H18) -> 100.7 | I19: =SUM(I14:I18) -> 98.5 | ... M19: =SUM(M14:M18) -> 86.1
A20: หมายเหตุ
A21: 1. ผู้ที่ได้รับมอบหมาย ต้องลงบันทึกปริมาณทุกวันที่สิ้นเดือน
A22: 2. รายการขยะของแต่ละประเภทสามารถเพิ่มเติมหรือตัดออกได้ขึ้นอยู่กับขยะที่เกิดขึ้นของแต่ละสำนักงาน

Sheet คำนวณ%
A1: รายการขยะ | B1: ปริมาณ (ระบุหน่วยเป็น ก.ก. หรือ ลิตร )
B2: ม.ค. | C2: ก.พ. | D2: มี.ค. | E2: เม.ย. | F2: พ.ค. | G2: มิ.ย. | H2: ก.ค. | I2: ส.ค. | J2: ก.ย. | K2: ต.ค. | L2: พ.ย. | M2: ธ.ค.
A3: ขยะทั่วไป | B3: ='ปริมาณขยะรายเดือน '!$B$4 -> 370.6 | C3: 336.1 | D3: 383.5 | E3: ='ปริมาณขยะรายเดือน '!E4 -> 359.8 | F3: ='ปริมาณขยะรายเดือน '!F4 -> 411.4 | G3: ='ปริมาณขยะรายเดือน '!G4 -> 420.9 | H3: ='ปริมาณขยะรายเดือน '!H4 -> 359.4 | I3: ='ปริมาณขยะรายเดือน '!I4 -> 365.6 | J3: ='ปริมาณขยะรายเดือน '!J4 -> 350.8 | K3: ='ปริมาณขยะรายเดือน '!K4 -> 341.8 | L3: ='ปริมาณขยะรายเดือน '!L4 -> 349.8 | M3: ='ปริมาณขยะรายเดือน '!M4 -> 331.3
A4: ขยะอันตราย | B4: ='ปริมาณขยะรายเดือน '!$B$12 -> 0 | C4: 0.3 | D4: 0.3 | E4: ='ปริมาณขยะรายเดือน '!E12 -> 0 | F4: ='ปริมาณขยะรายเดือน '!F12 -> 4.7 | G4: ='ปริมาณขยะรายเดือน '!G12 -> 10.8 | H4: ='ปริมาณขยะรายเดือน '!H12 -> 1.9 | I4: ='ปริมาณขยะรายเดือน '!I12 -> 0 | J4: ='ปริมาณขยะรายเดือน '!J12 -> 1.2 | K4: ='ปริมาณขยะรายเดือน '!K12 -> 2.5 | L4: ='ปริมาณขยะรายเดือน '!L12 -> 0 | M4: ='ปริมาณขยะรายเดือน '!M12 -> 0
A5: ขยะรีไซเคิล / นำกลับมาใช้ใหม่ | B5: ='ปริมาณขยะรายเดือน '!$B$19 -> 97.5 | C5: 81.8 | D5: 132.5 | E5: ='ปริมาณขยะรายเดือน '!E19 -> 103.6 | F5: ='ปริมาณขยะรายเดือน '!F19 -> 146.6 | G5: ='ปริมาณขยะรายเดือน '!G19 -> 106.7 | H5: ='ปริมาณขยะรายเดือน '!H19 -> 100.7 | I5: ='ปริมาณขยะรายเดือน '!I19 -> 98.5 | J5: ='ปริมาณขยะรายเดือน '!J19 -> 88.9 | K5: ='ปริมาณขยะรายเดือน '!K19 -> 114.6 | L5: ='ปริมาณขยะรายเดือน '!L19 -> 65.5 | M5: ='ปริมาณขยะรายเดือน '!M19 -> 86.1
A6: รวมขยะทั้งหมด | B6: =SUM(B3:B5) -> 468.1 | C6: =SUM(C3:C5) -> 418.2 | D6: =SUM(D3:D5) -> 516.3 | E6: =SUM(E3:E5) -> 463.4 | F6: =SUM(F3:F5) -> 562.7 | G6: =SUM(G3:G5) -> 538.4 | H6: =SUM(H3:H5) -> 462 | I6: =SUM(I3:I5) -> 464.1 | ... M6: =SUM(M3:M5) -> 417.4
A7: %ขยะรีไซเคิล / นำกลับมาใช้ใหม่ | B7: =B5/B6 -> 0.20828883 | C7: =C5/C6 -> 0.19560019 | D7: =D5/D6 -> 0.25663374 | E7: =E5/E6 -> 0.22356495 | F7: =F5/F6 -> 0.26052959 | G7: =G5/G6 -> 0.19817979 | H7: =H5/H6 -> 0.21796537 | I7: =I5/I6 -> 0.21223874 | ... M7: =M5/M6 -> 0.20627695
A8: %ปริมาณขยะทั่วไป(ฝังกลบ) | B8: =B3/B6 -> 0.79171117 | C8: =C3/C6 -> 0.80368245 | D8: =D3/D6 -> 0.7427852 | E8: =E3/E6 -> 0.77643505 | F8: =F3/F6 -> 0.73111782 | G8: =G3/G6 -> 0.78176077 | H8: =H3/H6 -> 0.77792208 | I8: =I3/I6 -> 0.78776126 | ... M8: =M3/M6 -> 0.79372305
A9: %ปริมาณขยะอันตราย | B9: =B4/B6 -> 0 | C9: =C4/C6 -> 0.00071736011 | D9: =D4/D6 -> 0.00058105752 | E9: =E4/E6 -> 0 | F9: =F4/F6 -> 0.0083525857 | G9: =G4/G6 -> 0.020059435 | H9: =H4/H6 -> 0.0041125541 | I9: =I4/I6 -> 0 | ... M9: =M4/M6 -> 0

Sheet คำนวณ ปริมาณขยะ
O1: วิธีแรก คือ คิด % ตามรายเดือน จะได้ % ตามตารางข้างล่าง คือ
L2: แบบฟอร์ม 4.1(1) | O2: %การนำขยะกลับมาใช้ใหม่ของแต่ละเดือน = | P2: (ขยะรีไซเคิลหรือนำกลับมาใช้ใหม่ x 100) ÷ ขยะรวมทั้งหมด
O3: วิธีที่สองคือ คิด% ขยะสะสมทั้งหมด เช่น ตอนนี้เก็บข้อมูลได้ 6 เดือน จะคำนวณดังนี้
A4: รายการขยะ | B4: ปริมาณ (ระบุหน่วยเป็น ก.ก. หรือ ลิตร ) ปี 2569 | O4: %การนำขยะกลับมาใช้ใหม่รวม 6 เดือน =
B5: ม.ค. | C5: ก.พ. | D5: มี.ค. | E5: เม.ย. | F5: พ.ค. | G5: มิ.ย. | H5: ก.ค. | I5: ส.ค. | J5: ก.ย. | K5: ต.ค. | L5: พ.ย. | M5: ธ.ค. | O5: รายการขยะ | P5: ปริมาณ (ระบุหน่วยเป็น ก.ก. หรือ ลิตร ) ปี 2568
A6: ขยะทั่วไป (ฝังกลบ) | B6: 370.6 | C6: 336.1 | D6: 383.5 | E6: 359.8 | F6: 411.4 | G6: 420.9 | H6: 359.4 | I6: 365.6 | J6: 350.8 | K6: 341.8 | L6: 349.8 | M6: 331.3 | N6: =SUM(B6:M6) -> 4381 | P6: ม.ค. | Q6: ก.พ. | R6: มี.ค. | S6: เม.ย. | T6: พ.ค. | U6: มิ.ย. | V6: ก.ค. | W6: ส.ค. | X6: ก.ย. | Y6: ต.ค. | Z6: พ.ย. | AA6: ธ.ค.
A7: ขยะอันตราย | O7: ขยะทั่วไป | P7: 370.6 | Q7: 336.1 | R7: 383.5 | S7: 359.8 | T7: 411.4 | U7: 420.9 | V7: 359.4 | W7: 365.6 | X7: 350.8 | Y7: 341.8 | Z7: 349.8 | AA7: 331.3
A8: หมึกพิมพ์ | B8: - | C8: - | D8: - | E8: - | F8: 3.5 | G8: 9.5 | H8: - | I8: - | J8: - | K8: - | L8: - | M8: - | O8: ขยะอันตราย | P8: =B14 -> 0.8 | Q8: 0.3 | R8: 0.3 | S8: 0 | T8: 4.7 | U8: 10.8 | V8: 1.9 | W8: 0 | X8: 1.2 | Y8: 2.5 | Z8: 0 | AA8: 0
A9: หลอดไฟ | B9: - | C9: - | D9: - | E9: - | F9: - | G9: 0.5 | H9: - | I9: - | J9: - | K9: 2.5 | L9: - | M9: - | O9: ขยะรีไซเคิล / นำกลับมาใช้ใหม่ | P9: =B21 -> 97.5 | Q9: =C21 -> 81.8 | R9: =D21 -> 132.5 | S9: =E21 -> 103.6 | T9: =F21 -> 146.6 | U9: =G21 -> 106.7 | V9: =H21 -> 100.7 | W9: =I21 -> 98.5 | ... AA9: =M21 -> 86.1
A10: ถ่ายไฟฉาย | B10: - | C10: - | D10: - | E10: - | F10: - | G10: - | H10: 0.7 | I10: - | J10: - | K10: - | L10: - | M10: - | O10: รวมขยะทั้งหมด | P10: =SUM(P7:P9) -> 468.9 | Q10: =SUM(Q7:Q9) -> 418.2 | R10: =SUM(R7:R9) -> 516.3 | S10: =SUM(S7:S9) -> 463.4 | T10: =SUM(T7:T9) -> 562.7 | U10: =SUM(U7:U9) -> 538.4 | V10: =SUM(V7:V9) -> 462 | W10: =SUM(W7:W9) -> 464.1 | ... AA10: =SUM(AA7:AA9) -> 417.4
A11: น้ำยาลบคำผิด | B11: - | C11: - | D11: - | E11: - | F11: - | G11: - | H11: - | I11: - | J11: - | K11: - | L11: - | M11: -
A12: ขวดสเปรย์ปรับอากาศ/สเปรย์กำจัดแมลง | B12: - | C12: - | D12: - | E12: - | F12: 1.2 | G12: 0.8 | H12: 1.2 | I12: - | J12: 1.2 | K12: - | L12: - | M12: - | O12: %ขยะรีไซเคิล / นำกลับมาใช้ใหม่ | P12: =P9/P10 -> 0.20793346 | Q12: =Q9/Q10 -> 0.19560019 | R12: =R9/R10 -> 0.25663374 | S12: =S9/S10 -> 0.22356495 | T12: =T9/T10 -> 0.26052959 | U12: =U9/U10 -> 0.19817979 | V12: =V9/V10 -> 0.21796537 | W12: =W9/W10 -> 0.21223874 | ... AA12: =AA9/AA10 -> 0.20627695
A13: กระป๋องน้ำยาเคมีต่าง ๆ | B13: 0.8 | C13: 0.3 | D13: 0.3 | E13: - | F13: - | G13: - | H13: - | I13: - | J13: - | K13: - | L13: - | M13: - | O13: %ปริมาณขยะทั่วไป(ฝังกลบ) | P13: =P7/P10 -> 0.79036042 | Q13: =Q7/Q10 -> 0.80368245 | R13: =R7/R10 -> 0.7427852 | S13: =S7/S10 -> 0.77643505 | T13: =T7/T10 -> 0.73111782 | U13: =U7/U10 -> 0.78176077 | V13: =V7/V10 -> 0.77792208 | W13: =W7/W10 -> 0.78776126 | ... AA13: =AA7/AA10 -> 0.79372305
A14: รวมขยะอันตราย | B14: =SUM(B8:B13) -> 0.8 | C14: =SUM(C8:C13) -> 0.3 | D14: =SUM(D8:D13) -> 0.3 | E14: =SUM(E8:E13) -> 0 | F14: =SUM(F8:F13) -> 4.7 | G14: =SUM(G8:G13) -> 10.8 | H14: =SUM(H8:H13) -> 1.9 | I14: =SUM(I8:I13) -> 0 | ... M14: =SUM(M8:M13) -> 0 | O14: %ขยะอันตราย | P14: =P8/P10 -> 0.0017061207 | Q14: =Q8/Q10 -> 0.00071736011 | R14: =R8/R10 -> 0.00058105752 | S14: =S8/S10 -> 0 | T14: =T8/T10 -> 0.0083525857 | U14: =U8/U10 -> 0.020059435 | V14: =V8/V10 -> 0.0041125541 | W14: =W8/W10 -> 0 | ... AA14: =AA8/AA10 -> 0
A15: ขยะรีไซเคิล / นำกลับมาใช้ใหม่
A16: กระดาษ | B16: 10.2 | C16: 3.2 | D16: 4.7 | E16: 11.6 | F16: 5.5 | G16: 8.2 | H16: 7.3 | I16: 1.9 | J16: 1.3 | K16: 27.7 | L16: 8 | M16: 19.6
A17: กล่องลัง | B17: 13.2 | C17: 15.2 | D17: 26.5 | E17: 15.5 | F17: 25.4 | G17: 16.9 | H17: 9.1 | I17: 17.3 | J17: 4.5 | K17: 20.8 | L17: 3.8 | M17: 6.3
A18: ขวดพลาสติก | B18: 6.1 | C18: 11 | D18: 5.1 | E18: 8.3 | F18: 10.1 | G18: 10.3 | H18: 14.2 | I18: 15 | J18: 9.9 | K18: 8.9 | L18: 5.8 | M18: 6.5
A19: ใบไม้ | B19: 0.6 | C19: 0.5 | D19: 2.6 | E19: 1.1 | F19: 4.1 | G19: 0.3 | H19: - | I19: - | J19: 1.2 | K19: - | L19: - | M19: -
A20: อาหาร | B20: 67.4 | C20: 51.9 | D20: 93.6 | E20: 67.1 | F20: 101.5 | G20: 71 | H20: 70.1 | I20: 64.3 | J20: 72 | K20: 57.2 | L20: 47.9 | M20: 53.7
A21: รวมขยะรีไซเคิล / นำกลับมาใช้ใหม่ | B21: =SUM(B16:B20) -> 97.5 | C21: =SUM(C16:C20) -> 81.8 | D21: =SUM(D16:D20) -> 132.5 | E21: =SUM(E16:E20) -> 103.6 | F21: =SUM(F16:F20) -> 146.6 | G21: =SUM(G16:G20) -> 106.7 | H21: =SUM(H16:H20) -> 100.7 | I21: =SUM(I16:I20) -> 98.5 | ... M21: =SUM(M16:M20) -> 86.1
A22: หมายเหตุ
A23: 1. ผู้ที่ได้รับมอบหมาย ต้องลงบันทึกปริมาณทุกวันที่สิ้นเดือน
A24: 2. รายการขยะของแต่ละประเภทสามรถเพิ่มเติมหรือตัดออกได้ขึ้นอยู่กับขยะที่เกิดขึ้นของแต่ละสำนักงาน
