Workbook

Sheet 2569
K1: แบบฟอร์ม 3.2(2)
A2: บันทึกปริมาณการใช้น้ำมันเชื้อเพลิง
A3: เดือน | B3: ปริมาณการใช้น้ำมันเชื้อเพลิงปี 2568 | F3: ปริมาณการใช้น้ำมันเชื้อเพลิงปี 2569 | J3: ร้อยละปริมาณการใช้น้ำมันเชื้อเพลิง
B4: ระยะทาง(km) | C4: (ลิตร)ปี2568 | D4: ค่าน้ำมัน/เดือน (บาท) | E4: (km/ลิตร) ปี 2568 | F4: ระยะทาง(km) | G4: (ลิตร) ปี 2569 | H4: ค่าน้ำมัน/เดือน (บาท) | I4: (km/ลิตร)ปี 2569 | J4: (ลิตร)ปี 2569 | K4: (km/ลิตร) ปี 2569
A5: ม.ค. | B5: ='2568'!F5 -> 920.28 | C5: ='2568'!G5 -> 76.69 | D5: ='2568'!H5 -> 2609.8 | E5: =B5/C5 -> 12 | F5: =G5*12 -> 989.244 | G5: =IQS!C4+rae!C4 -> 82.437 | H5: =IQS!E4+rae!E4 -> 2530 | I5: =F5/G5 -> 12 | J5: =(G5-C5)/C5 -> 0.074938062 | K5: =(I5-E5)/E5 -> 0
A6: ก.พ. | B6: ='2568'!F6 -> 733.8 | C6: ='2568'!G6 -> 61.15 | D6: ='2568'!H6 -> 2060 | E6: =B6/C6 -> 12 | F6: =G6*12 -> 281.532 | G6: =IQS!C5+rae!C5 -> 23.461 | H6: =IQS!E5+rae!E5 -> 720 | I6: =F6/G6 -> 12 | J6: =(G6-C6)/C6 -> -0.61633688 | K6: =(I6-E6)/E6 -> 0
A7: มี.ค. | B7: ='2568'!F7 -> 1136.88 | C7: ='2568'!G7 -> 94.74 | D7: ='2568'!H7 -> 3184.8 | E7: =B7/C7 -> 12 | F7: =G7*12 -> 470.172 | G7: =IQS!C6+rae!C6 -> 39.181 | H7: =IQS!E6+rae!E6 -> 1320 | I7: =F7/G7 -> 12 | J7: =(G7-C7)/C7 -> -0.58643656 | K7: =(I7-E7)/E7 -> 0
A8: เม.ย. | B8: ='2568'!F8 -> 1058.88 | C8: ='2568'!G8 -> 88.24 | D8: ='2568'!H8 -> 2863.03 | E8: =B8/C8 -> 12 | F8: =G8*12 -> 468.864 | G8: =IQS!C7+rae!C7 -> 39.072 | H8: =IQS!E7+rae!E7 -> 1600 | I8: =F8/G8 -> 12 | J8: =(G8-C8)/C8 -> -0.55720762 | K8: =(I8-E8)/E8 -> 0
A9: พ.ค. | B9: ='2568'!F9 -> 984 | C9: ='2568'!G9 -> 82 | D9: ='2568'!H9 -> 2670 | E9: =B9/C9 -> 12 | F9: =G9*12 -> 586.728 | G9: =IQS!C8+rae!C8 -> 48.894 | H9: =IQS!E8+rae!E8 -> 2100 | I9: =F9/G9 -> 12 | J9: =(G9-C9)/C9 -> -0.40373171 | K9: =(I9-E9)/E9 -> 0
A10: มิ.ย. | B10: ='2568'!F10 -> 807.6 | C10: ='2568'!G10 -> 67.3 | D10: ='2568'!H10 -> 2200 | E10: =B10/C10 -> 12 | F10: =G10*12 -> 1281.456 | G10: =IQS!C9+rae!C9 -> 106.788 | H10: =IQS!E9+rae!E9 -> 4130 | I10: =F10/G10 -> 12 | J10: =(G10-C10)/C10 -> 0.58674591 | K10: =(I10-E10)/E10 -> 0
A11: ก.ค. | B11: ='2568'!F11 -> 284.52 | C11: ='2568'!G11 -> 23.71 | D11: ='2568'!H11 -> 775 | E11: =B11/C11 -> 12 | F11: =G11*12 -> 678.48 | G11: =IQS!C10+rae!C10 -> 56.54 | H11: =IQS!E10+rae!E10 -> 2080 | I11: =F11/G11 -> 12 | J11: =(G11-C11)/C11 -> 1.3846478 | K11: =(I11-E11)/E11 -> 1.4802974e-16
A12: ส.ค. | B12: ='2568'!F12 -> 728.88 | C12: ='2568'!G12 -> 60.74 | D12: ='2568'!H12 -> 1985.6 | E12: =B12/C12 -> 12 | F12: =G12*12 -> 0 | G12: =IQS!C11+rae!C11 -> 0 | H12: =IQS!E11+rae!E11 -> 0 | I12: =F12/G12 -> #DIV/0! | J12: =(G12-C12)/C12 -> -1 | K12: =(I12-E12)/E12 -> #DIV/0!
A13: ก.ย. | B13: ='2568'!F13 -> 844.32 | C13: ='2568'!G13 -> 70.36 | D13: ='2568'!H13 -> 2300 | E13: =B13/C13 -> 12 | F13: =G13*12 -> 0 | G13: =IQS!C12+rae!C12 -> 0 | H13: =IQS!E12+rae!E12 -> 0 | I13: =F13/G13 -> #DIV/0! | J13: =(G13-C13)/C13 -> -1 | K13: =(I13-E13)/E13 -> #DIV/0!
A14: ต.ค. | B14: ='2568'!F14 -> 388.8 | C14: ='2568'!G14 -> 32.4 | D14: ='2568'!H14 -> 1060 | E14: =B14/C14 -> 12 | F14: =G14*12 -> 0 | G14: =IQS!C13+rae!C13 -> 0 | H14: =IQS!E13+rae!E13 -> 0 | I14: =F14/G14 -> #DIV/0! | J14: =(G14-C14)/C14 -> -1 | K14: =(I14-E14)/E14 -> #DIV/0!
A15: พ.ย. | B15: ='2568'!F15 -> 461.88 | C15: ='2568'!G15 -> 38.49 | D15: ='2568'!H15 -> 1220 | E15: =B15/C15 -> 12 | F15: =G15*12 -> 0 | G15: =IQS!C14+rae!C14 -> 0 | H15: =IQS!E14+rae!E14 -> 0 | I15: =F15/G15 -> #DIV/0! | J15: =(G15-C15)/C15 -> -1 | K15: =(I15-E15)/E15 -> #DIV/0!
A16: ธ.ค. | B16: ='2568'!F16 -> 0 | C16: ='2568'!G16 -> 0 | D16: ='2568'!H16 -> 0 | E16: 0 | F16: =G16*12 -> 0 | G16: =IQS!C15+rae!C15 -> 0 | H16: =IQS!E15+rae!E15 -> 0 | I16: =F16/G16 -> #DIV/0! | J16: =(G16-C16)/C16 -> #DIV/0! | K16: =(I16-E16)/E16 -> #DIV/0!
A17: เฉลี่ย | B17: =AVERAGE(B5:B16) -> 695.82 | C17: =AVERAGE(C5:C16) -> 57.985 | D17: =AVERAGE(D5:D16) -> 1910.6858 | E17: =AVERAGE(E5:E16) -> 11 | F17: =AVERAGE(F5:F16) -> 396.373 | G17: =AVERAGE(G5:G16) -> 33.031083 | H17: =AVERAGE(H5:H16) -> 1206.6667 | I17: =F17/G17 -> 12 | J17: =(G17-C17)/C17 -> -0.43035124 | K17: =(I17-E17)/E17 -> 0.090909091
A18: รวม | B18: =SUM(B5:B16) -> 8349.84 | C18: =SUM(C5:C16) -> 695.82 | D18: =SUM(D5:D16) -> 22928.23 | E18: =SUM(E5:E16) -> 132 | F18: =SUM(F5:F16) -> 4756.476 | G18: =SUM(G5:G16) -> 396.373 | H18: =SUM(H5:H16) -> 14480 | I18: =SUM(I5:I16) -> #DIV/0! | J18: =(G18-C18)/C18 -> -0.43035124 | K18: =(I18-E18)/E18 -> #DIV/0!
A41: สรุปปริมาณการใช้น้ำมันเชื้อเพลิง 1. ปริมาณน้ำมันเชื้อเพลิงสะสมตั้งแต่เดือน มกราคม ถึง ….............ปี 2569 เท่ากับ …......... ลิตร ลดลงจาก ปี 25….ในช่วงเวลาเดียวกัน เท่ากับ …............. ลิตร คิดเป็น …...... % 2. อัตราการใช้น้ำมันเชื้อเพลิงสะสมตั้งแต่เดือน มกราคม ถึง ….............ปี 2569 เท่ากับ …......... km/ลิตร ลดลงจาก ปี 25….ในช่วงเวลาเดียวกัน เท่ากับ …............. km/ลิตร คิดเป็น …...... % 3. ปริมาณน้ำมันเชื้อเพลิงเฉลี่ยตั้งแต่เดือน มกราคม ถึง ….............ปี 2569 เท่ากับ …......... ลิตร ลดลงจาก ปี 25….ในช่วงเวลาเดียวกัน เท่ากับ …............. ลิตร คิดเป็น …...... % 4. อัตราการใช้น้ำมันเชื้อเพลิงเฉลี่ยตั้งแต่เดือน มกราคม ถึง ….............ปี 2569 เท่ากับ …......... km/ลิตร ลดลงจาก ปี 25….ในช่วงเวลาเดียวกัน เท่ากับ …............. km/ลิตร คิดเป็น …...... %
E46: บรรลุเป้าหมาย | H46: ไม่บรรลุเป้าหมาย
A47: การวิเคราะห์ข้อมูลและสาเหตุ (เป้าหมาย 2569 : การใช้น้ำมันเชื้อเพลิงลดลง ….............% จากปี 2568)
A48: เดือนมกราคม 2569 | D48: บรรลุเป้าหมาย | G48: ไม่บรรลุเป้าหมาย
A49: รายละเอียด :
A50: วิเคราะห์สาเหตุ :
A51: แนวทางจัดการ :
A52: เดือนกุมภาพันธ์ 2569 | D52: บรรลุเป้าหมาย | G52: ไม่บรรลุเป้าหมาย
A53: รายละเอียด :
A54: วิเคราะห์สาเหตุ :
A55: แนวทางจัดการ :
A56: เดือนมีนาคม 2569 | D56: บรรลุเป้าหมาย | G56: ไม่บรรลุเป้าหมาย
A57: รายละเอียด :
A58: วิเคราะห์สาเหตุ :
A59: แนวทางจัดการ :
A60: เดือนเมษายน 2569 | D60: บรรลุเป้าหมาย | G60: ไม่บรรลุเป้าหมาย
A61: รายละเอียด :
A62: วิเคราะห์สาเหตุ :
A63: แนวทางจัดการ :
A64: เดือนพฤษภาคม 2569 | D64: บรรลุเป้าหมาย | G64: ไม่บรรลุเป้าหมาย
A65: รายละเอียด :
A66: วิเคราะห์สาเหตุ :
...

Sheet 2568
K1: แบบฟอร์ม 3.2(1)
A2: บันทึกปริมาณการใช้น้ำมันเชื้อเพลิง
A3: เดือน | B3: ปริมาณการใช้น้ำมันเชื้อเพลิงปี 2567 | F3: ปริมาณการใช้น้ำมันเชื้อเพลิงปี 2568 | J3: ร้อยละปริมาณการใช้น้ำมันเชื้อเพลิง
B4: ระยะทาง(km) | C4: (ลิตร)ปี 2567 | D4: ค่าน้ำมัน/เดือน (บาท) | E4: (km/ลิตร) ปี 2567 | F4: ระยะทาง(km) | G4: (ลิตร) ปี 2568 | H4: ค่าน้ำมัน/เดือน (บาท) | I4: (km/ลิตร)ปี 2568 | J4: (ลิตร)ปี 2568 | K4: (km/ลิตร) ปี 2568
A5: ม.ค. | B5: 859.8 | C5: 71.65 | D5: 2196 | E5: =B5/C5 -> 12 | F5: =G5*12 -> 920.28 | G5: 76.69 | H5: 2609.8 | I5: =F5/G5 -> 12 | J5: =(G5-C5)/C5 -> 0.07034194 | K5: =(I5-E5)/E5 -> 1.4802974e-16
A6: ก.พ. | B6: 1398.36 | C6: 116.53 | D6: 3633.66 | E6: =B6/C6 -> 12 | F6: =G6*12 -> 733.8 | G6: 61.15 | H6: 2060 | I6: =F6/G6 -> 12 | J6: =(G6-C6)/C6 -> -0.47524243 | K6: =(I6-E6)/E6 -> 1.4802974e-16
A7: มี.ค. | B7: 1410 | C7: 117.5 | D7: 3607.6 | E7: =B7/C7 -> 12 | F7: =G7*12 -> 1136.88 | G7: 94.74 | H7: 3184.8 | I7: =F7/G7 -> 12 | J7: =(G7-C7)/C7 -> -0.19370213 | K7: =(I7-E7)/E7 -> 0
A8: เม.ย. | B8: 450.6 | C8: 37.55 | D8: 1190 | E8: =B8/C8 -> 12 | F8: =G8*12 -> 1058.88 | G8: 88.24 | H8: 2863.03 | I8: =F8/G8 -> 12 | J8: =(G8-C8)/C8 -> 1.3499334 | K8: =(I8-E8)/E8 -> -1.4802974e-16
A9: พ.ค. | B9: 237.95 | C9: 22.83 | D9: 760 | E9: =B9/C9 -> 10.422689 | F9: =G9*12 -> 984 | G9: 82 | H9: 2670 | I9: =F9/G9 -> 12 | J9: =(G9-C9)/C9 -> 2.5917652 | K9: =(I9-E9)/E9 -> 0.15133431
A10: มิ.ย. | B10: 624.21 | C10: 59.89 | D10: 3127.24 | E10: =B10/C10 -> 10.422608 | F10: =G10*12 -> 807.6 | G10: 67.3 | H10: 2200 | I10: =F10/G10 -> 12 | J10: =(G10-C10)/C10 -> 0.12372683 | K10: =(I10-E10)/E10 -> 0.1513433
A11: ก.ค. | B11: 824.51 | C11: 68.7 | D11: 2130 | E11: =B11/C11 -> 12.001601 | F11: =G11*12 -> 284.52 | G11: 23.71 | H11: 775 | I11: =F11/G11 -> 12 | J11: =(G11-C11)/C11 -> -0.65487627 | K11: =(I11-E11)/E11 -> -0.00013341257
A12: ส.ค. | B12: 1024.68 | C12: 85.39 | D12: 2690 | E12: =B12/C12 -> 12 | F12: =G12*12 -> 728.88 | G12: 60.74 | H12: 1985.6 | I12: =F12/G12 -> 12 | J12: =(G12-C12)/C12 -> -0.28867549 | K12: =(I12-E12)/E12 -> 0
A13: ก.ย. | B13: 1541.16 | C13: 128.43 | D13: 4110 | E13: =B13/C13 -> 12 | F13: =G13*12 -> 844.32 | G13: 70.36 | H13: 2300 | I13: =F13/G13 -> 12 | J13: =(G13-C13)/C13 -> -0.45215292 | K13: =(I13-E13)/E13 -> 0
A14: ต.ค. | B14: 690 | C14: 57.5 | D14: 1840 | E14: =B14/C14 -> 12 | F14: =G14*12 -> 388.8 | G14: 32.4 | H14: 1060 | I14: =F14/G14 -> 12 | J14: =(G14-C14)/C14 -> -0.43652174 | K14: =(I14-E14)/E14 -> 0
A15: พ.ย. | B15: 812.28 | C15: 67.69 | D15: 2200 | E15: =B15/C15 -> 12 | F15: =G15*12 -> 461.88 | G15: 38.49 | H15: 1220 | I15: =F15/G15 -> 12 | J15: =(G15-C15)/C15 -> -0.43137834 | K15: =(I15-E15)/E15 -> 0
A16: ธ.ค. | B16: 798.48 | C16: 66.54 | D16: 2196 | E16: =B16/C16 -> 12 | F16: 0 | G16: 0 | H16: =[1]IQS!E15+[1]สำนักวิจัย!E15 -> 0 | I16: 0 | J16: =(G16-C16)/C16 -> -1 | K16: =(I16-E16)/E16 -> -1
A17: เฉลี่ย | B17: =AVERAGE(B5:B16) -> 889.33583 | C17: =AVERAGE(C5:C16) -> 75.016667 | D17: =AVERAGE(D5:D16) -> 2473.375 | E17: =AVERAGE(E5:E16) -> 11.737242 | F17: =AVERAGE(F5:F16) -> 695.82 | G17: =AVERAGE(G5:G16) -> 57.985 | H17: =AVERAGE(H5:H16) -> 1910.6858 | I17: =F17/G17 -> 12 | J17: =(G17-C17)/C17 -> -0.22703844 | K17: =(I17-E17)/E17 -> 0.022386728
A18: รวม | B18: =SUM(B5:B16) -> 10672.03 | C18: =SUM(C5:C16) -> 900.2 | D18: =SUM(D5:D16) -> 29680.5 | E18: =SUM(E5:E16) -> 140.8469 | F18: =SUM(F5:F16) -> 8349.84 | G18: =SUM(G5:G16) -> 695.82 | H18: =SUM(H5:H16) -> 22928.23 | I18: =SUM(I5:I16) -> 132 | J18: =(G18-C18)/C18 -> -0.22703844 | K18: =(I18-E18)/E18 -> -0.062812166
A43: สรุปปริมาณการใช้น้ำมันเชื้อเพลิง 1. ปริมาณน้ำมันเชื้อเพลิงสะสมตั้งแต่เดือน มกราคม ถึง มิถุนายน ปี 2567 เท่ากับ 426 ลิตร ลดลงจาก ปี 2566 ในช่วงเวลาเดียวกัน เท่ากับ 610.3 ลิตร คิดเป็น -30.2 % 2. อัตราการใช้น้ำมันเชื้อเพลิงสะสมตั้งแต่เดือน มกราคม ถึง มิถุนายน ปี 2567 เท่ากับ 11.90 km/ลิตร เพิ่มขึ้นจาก ปี 2566 ในช่วงเวลาเดียวกัน เท่ากับ 11.52 km/ลิตร คิดเป็น 3.29 % 3. ปริมาณน้ำมันเชื้อเพลิงเฉลี่ยตั้งแต่เดือน มกราคม ถึง มิถุนายน ปี 2567 เท่ากับ 70.99 ลิตร ลดลงจาก ปี 2566 ในช่วงเวลาเดียวกัน เท่ากับ 101.7 ลิตร คิดเป็น -30.2 % 4. อัตราการใช้น้ำมันเชื้อเพลิงเฉลี่ยตั้งแต่เดือน มกราคม ถึง มิถุนายน ปี 2567 เท่ากับ 11.83 km/ลิตร เพิ่มขึ้นจาก ปี 2566 ในช่วงเวลาเดียวกัน เท่ากับ 11.48 km/ลิตร คิดเป็น 3.04 %
A48: การวิเคราะห์ข้อมูลและสาเหตุ (เป้าหมาย : การใช้น้ำมันเชื้อเพลิงลดลง 1% จากปี 2566)
A49: เดือนมกราคม 2568
A50: รายละเอียด : ผลการใช้น้ำมันเชื้อเพลิง ประจำเดือน มกราคม 2568 พบว่า ปริมาณการใช้น้ำมันเชื้อเพลิง เพิ่มขึ้น เมื่อเทียบกับปี 2567 จำนวน 5.04 ลิตร เมื่อคิดเป็นเปอร์เซ็นต์/ลิตร จะเพิ่มขึ้นเท่ากับ 7.0%
A51: วิเคราะห์สาเหตุ : | C51: เนื่องจากมีการใช้รถเพื่อเดินทางไปปฏิบัติงานราชการต่างจังหวัด
A52: แนวทางจัดการ : | C52: วางแผนการใช้ยานพาหนะล่วงหน้า โดยรวมภารกิจที่อยู่ในเส้นทางเดียวกันเพื่อลดจำนวนเที่ยวในการเดินทาง
A53: เดือนกุมภาพันธ์ 2568
A54: รายละเอียด : ผลการใช้น้ำมันเชื้อเพลิง ประจำเดือน กุมภาพันธ์ 2568 พบว่า ปริมาณการใช้น้ำมันเชื้อเพลิง ลดลง เมื่อเทียบกับปี 2567 จำนวน 55.38 ลิตร เมื่อคิดเป็นเปอร์เซ็นต์/ลิตร จะลดลงเท่ากับ -47.65%
A55: วิเคราะห์สาเหตุ : | C55: เนื่องจากไม่มีการใช้รถเพื่อเดินทางไปราชการต่างจังหวัดจึงส่งผลให้ปริมาณการใช้น้ำมันเชื้อเพลิงลดลง และใช้เทคโนโลยีในการประชุมทางไกล (ออนไลน์) แทนการเดินทาง ช่วยลดความจำเป็นในการใช้น้ำมันเชื้อเพลิง
A56: แนวทางจัดการ :
A57: เดือนมีนาคม 2568
A58: รายละเอียด : ผลการใช้น้ำมันเชื้อเพลิง ประจำเดือน มีนาคม 2568 พบว่า ปริมาณการใช้น้ำมันเชื้อเพลิง ลดลง เมื่อเทียบกับปี 2567 จำนวน 22.76 ลิตร เมื่อคิดเป็นเปอร์เซ็นต์/ลิตร จะลดลงเท่ากับ -19.4%
A59: วิเคราะห์สาเหตุ : | C59: เนื่องจากไม่มีการใช้รถเพื่อเดินทางไปราชการต่างจังหวัดจึงส่งผลให้ปริมาณการใช้น้ำมันเชื้อเพลิงลดลง และใช้เทคโนโลยีในการประชุมทางไกล (ออนไลน์) แทนการเดินทาง ช่วยลดความจำเป็นในการใช้น้ำมันเชื้อเพลิง
A60: แนวทางจัดการ :
A61: เดือนเมษายน 2568
A62: รายละเอียด : ผลการใช้น้ำมันเชื้อเพลิง ประจำเดือน เมษายน 2568 พบว่า ปริมาณการใช้น้ำมันเชื้อเพลิง เพิ่มขึ้น เมื่อเทียบกับปี 2567 จำนวน 50.69 ลิตร เมื่อคิดเป็นเปอร์เซ็นต์/ลิตร จเพิ่มขึ้นเท่ากับ 135.0%
A63: วิเคราะห์สาเหตุ : | C63: เนื่องจากมีการใช้รถเพื่อเดินทางไปปฏิบัติงานราชการต่างจังหวัด
A64: แนวทางจัดการ : | C64: กำหนดเส้นทางการเดินทางที่เหมาะสมและสั้นที่สุด เพื่อลดระยะทางและเวลาในการเดินทาง
A65: เดือนพฤษภาคม 2568
A66: รายละเอียด : ผลการใช้น้ำมันเชื้อเพลิง ประจำเดือน พฤษภาคม 2568 พบว่า ปริมาณการใช้น้ำมันเชื้อเพลิง เพิ่มขึ้น เมื่อเทียบกับปี 2567 จำนวน 59.17 ลิตร เมื่อคิดเป็นเปอร์เซ็นต์/ลิตร จะเพิ่มขึ้นเท่ากับ 259.2%
A67: วิเคราะห์สาเหตุ : | C67: เนื่องจากมีการใช้รถเพื่อเดินทางไปปฏิบัติงานราชการต่างจังหวัด
A68: แนวทางจัดการ : | C68: กำหนดเส้นทางการเดินทางที่เหมาะสมและสั้นที่สุด เพื่อลดระยะทางและเวลาในการเดินทาง
...

Sheet 2567
K1: แบบฟอร์ม 3.2(1)
A2: บันทึกปริมาณการใช้น้ำมันเชื้อเพลิง
A3: เดือน | B3: ปริมาณการใช้น้ำมันเชื้อเพลิงปี 2566 | F3: ปริมาณการใช้น้ำมันเชื้อเพลิงปี 2567 | J3: ร้อยละปริมาณการใช้น้ำมันเชื้อเพลิง
B4: ระยะทาง(km) | C4: (ลิตร)ปี 2566 | D4: ค่าน้ำมัน/เดือน (บาท) | E4: (km/ลิตร) ปี 2566 | F4: ระยะทาง(km) | G4: (ลิตร) ปี 2567 | H4: ค่าน้ำมัน/เดือน (บาท) | I4: (km/ลิตร)ปี 2567 | J4: (ลิตร)ปี 2567 | K4: (km/ลิตร) ปี 2567
A5: ม.ค. | B5: 1510.68 | C5: 125.89 | D5: 3480.03 | E5: =B5/C5 -> 12 | F5: 859.8 | G5: 71.65 | H5: 2196 | I5: =F5/G5 -> 12 | J5: =(G5-C5)/C5 -> -0.43085233 | K5: =(I5-E5)/E5 -> -1.4802974e-16
A6: ก.พ. | B6: 1063.3 | C6: 96.66 | D6: 3429.78 | E6: =B6/C6 -> 11.000414 | F6: 1398.36 | G6: 116.53 | H6: 3633.66 | I6: =F6/G6 -> 12 | J6: =(G6-C6)/C6 -> 0.2055659 | K6: =(I6-E6)/E6 -> 0.090868052
A7: มี.ค. | B7: 596.04 | C7: 49.67 | D7: 1854.6 | E7: =B7/C7 -> 12 | F7: 1410 | G7: 117.5 | H7: 3607.6 | I7: =F7/G7 -> 12 | J7: =(G7-C7)/C7 -> 1.365613 | K7: =(I7-E7)/E7 -> 1.4802974e-16
A8: เม.ย. | B8: 1281.12 | C8: 106.76 | D8: 3639.99 | E8: =B8/C8 -> 12 | F8: 450.6 | G8: 37.55 | H8: 1190 | I8: =F8/G8 -> 12 | J8: =(G8-C8)/C8 -> -0.64827651 | K8: =(I8-E8)/E8 -> 2.9605947e-16
A9: พ.ค. | B9: 856.68 | C9: 71.39 | D9: 2353.8 | E9: =B9/C9 -> 12 | F9: 237.95 | G9: 22.83 | H9: 760 | I9: =F9/G9 -> 10.422689 | J9: =(G9-C9)/C9 -> -0.68020731 | K9: =(I9-E9)/E9 -> -0.13144255
A10: มิ.ย. | B10: 1918.8 | C10: 159.9 | D10: 5362.2 | E10: =B10/C10 -> 12 | F10: 624.21 | G10: 59.89 | H10: 3127.24 | I10: =F10/G10 -> 10.422608 | J10: =(G10-C10)/C10 -> -0.62545341 | K10: =(I10-E10)/E10 -> -0.13144932
A11: ก.ค. | B11: 605.76 | C11: 50.48 | D11: 1650 | E11: =B11/C11 -> 12 | F11: 824.51 | G11: 68.7 | H11: 2130 | I11: =F11/G11 -> 12.001601 | J11: =(G11-C11)/C11 -> 0.36093502 | K11: =(I11-E11)/E11 -> 0.00013343037
A12: ส.ค. | B12: 604.45 | C12: 50.47 | D12: 1650 | E12: =B12/C12 -> 11.976422 | F12: 1024.68 | G12: 85.39 | H12: 2690 | I12: =F12/G12 -> 12 | J12: =(G12-C12)/C12 -> 0.69189618 | K12: =(I12-E12)/E12 -> 0.0019687319
A13: ก.ย. | B13: 540.54 | C13: 51.48 | D13: 2580 | E13: =B13/C13 -> 10.5 | F13: 1541.16 | G13: 128.43 | H13: 4110 | I13: =F13/G13 -> 12 | J13: =(G13-C13)/C13 -> 1.4947552 | K13: =(I13-E13)/E13 -> 0.14285714
A14: ต.ค. | B14: 655.45 | C14: 59.95 | D14: 1840 | E14: =B14/C14 -> 10.933278 | F14: 690 | G14: 57.5 | H14: 1840 | I14: =F14/G14 -> 12 | J14: =(G14-C14)/C14 -> -0.040867389 | K14: =(I14-E14)/E14 -> 0.097566557
A15: พ.ย. | B15: 788.59 | C15: 71.69 | D15: 2200 | E15: =B15/C15 -> 11 | F15: 812.28 | G15: 67.69 | H15: 2200 | I15: =F15/G15 -> 12 | J15: =(G15-C15)/C15 -> -0.055795787 | K15: =(I15-E15)/E15 -> 0.090909091
A16: ธ.ค. | B16: 1347.84 | C16: 124.8 | D16: 3830.13 | E16: =B16/C16 -> 10.8 | F16: 798.48 | G16: 66.54 | H16: 2196 | I16: =F16/G16 -> 12 | J16: =(G16-C16)/C16 -> -0.46682692 | K16: =(I16-E16)/E16 -> 0.11111111
A17: เฉลี่ย | B17: =AVERAGE(B5:B16) -> 980.77083 | C17: =AVERAGE(C5:C16) -> 84.928333 | D17: =AVERAGE(D5:D16) -> 2822.5442 | E17: =AVERAGE(E5:E16) -> 11.517509 | F17: =AVERAGE(F5:F16) -> 889.33583 | G17: =AVERAGE(G5:G16) -> 75.016667 | H17: =AVERAGE(H5:H16) -> 2473.375 | I17: =F17/G17 -> 11.855177 | J17: =(G17-C17)/C17 -> -0.11670624 | K17: =(I17-E17)/E17 -> 0.029317727
A18: รวม | B18: =SUM(B5:B16) -> 11769.25 | C18: =SUM(C5:C16) -> 1019.14 | D18: =SUM(D5:D16) -> 33870.53 | E18: =SUM(E5:E16) -> 138.21011 | F18: =SUM(F5:F16) -> 10672.03 | G18: =SUM(G5:G16) -> 900.2 | H18: =SUM(H5:H16) -> 29680.5 | I18: =SUM(I5:I16) -> 140.8469 | J18: =(G18-C18)/C18 -> -0.11670624 | K18: =(I18-E18)/E18 -> 0.019078094
A43: สรุปปริมาณการใช้น้ำมันเชื้อเพลิง 1. ปริมาณน้ำมันเชื้อเพลิงสะสมตั้งแต่เดือน มกราคม ถึง มิถุนายน ปี 2567 เท่ากับ 426 ลิตร ลดลงจาก ปี 2566 ในช่วงเวลาเดียวกัน เท่ากับ 610.3 ลิตร คิดเป็น -30.2 % 2. อัตราการใช้น้ำมันเชื้อเพลิงสะสมตั้งแต่เดือน มกราคม ถึง มิถุนายน ปี 2567 เท่ากับ 11.90 km/ลิตร เพิ่มขึ้นจาก ปี 2566 ในช่วงเวลาเดียวกัน เท่ากับ 11.52 km/ลิตร คิดเป็น 3.29 % 3. ปริมาณน้ำมันเชื้อเพลิงเฉลี่ยตั้งแต่เดือน มกราคม ถึง มิถุนายน ปี 2567 เท่ากับ 70.99 ลิตร ลดลงจาก ปี 2566 ในช่วงเวลาเดียวกัน เท่ากับ 101.7 ลิตร คิดเป็น -30.2 % 4. อัตราการใช้น้ำมันเชื้อเพลิงเฉลี่ยตั้งแต่เดือน มกราคม ถึง มิถุนายน ปี 2567 เท่ากับ 11.83 km/ลิตร เพิ่มขึ้นจาก ปี 2566 ในช่วงเวลาเดียวกัน เท่ากับ 11.48 km/ลิตร คิดเป็น 3.04 %
A48: การวิเคราะห์ข้อมูลและสาเหตุ (เป้าหมาย : การใช้น้ำมันเชื้อเพลิงลดลง 1% จากปี 2566)
A49: เดือนมกราคม 2567
A50: รายละเอียด : ผลการใช้น้ำมันเชื้อเพลิง ประจำเดือน มกราคม 2567 พบว่า ปริมาณการใช้น้ำมันเชื้อเพลิง ลดลง เมื่อเทียบกับปี 2566 จำนวน 54.24 ลิตร เมื่อคิดเป็นเปอร์เซ็นต์/ลิตร จะลดลงเท่ากับ -43.1%
A51: วิเคราะห์สาเหตุ : | C51: เนื่องจากไม่มีการใช้รถเพื่อเดินทางไปราชการต่างจังหวัด
A52: แนวทางจัดการ :
A53: เดือนกุมภาพันธ์ 2567
A54: รายละเอียด : ผลการใช้น้ำมันเชื้อเพลิง ประจำเดือน กุมภาพันธ์ 2567 พบว่า ปริมาณการใช้น้ำมันเชื้อเพลิง เพิ่มขึ้น เมื่อเทียบกับปี 2566 จำนวน 19.67 ลิตร เมื่อคิดเป็นเปอร์เซ็นต์/ลิตร จะเพิ่มขึ้นเท่ากับ 20.6%
A55: วิเคราะห์สาเหตุ : | C55: เนื่องจากมีการใช้รถเพื่อเดินทางไปราชการต่างจังหวัด
A56: แนวทางจัดการ :
A57: เดือนมีนาคม 2567
A58: รายละเอียด : ผลการใช้น้ำมันเชื้อเพลิง ประจำเดือน มีนาคม 2567 พบว่า ปริมาณการใช้น้ำมันเชื้อเพลิง เพิ่มขึ้น เมื่อเทียบกับปี 2566 จำนวน 67.83 ลิตร เมื่อคิดเป็นเปอร์เซ็นต์/ลิตร จะเพิ่มขึ้นเท่ากับ 136.6%
A59: วิเคราะห์สาเหตุ : | C59: เนื่องจากมีการใช้รถเพื่อเดินทางไปราชการต่างจังหวัด
A60: แนวทางจัดการ :
A61: เดือนเมษายน 2567
A62: รายละเอียด : ผลการใช้น้ำมันเชื้อเพลิง ประจำเดือน เมษายน 2567 พบว่า ปริมาณการใช้น้ำมันเชื้อเพลิง ลดลง เมื่อเทียบกับปี 2566 จำนวน 69.21 ลิตร เมื่อคิดเป็นเปอร์เซ็นต์/ลิตร จะลดลงเท่ากับ -64.8%
A63: วิเคราะห์สาเหตุ : | C63: เนื่องจากไม่มีการใช้รถเพื่อเดินทางไปราชการต่างจังหวัด
A64: แนวทางจัดการ :
A65: เดือนพฤษภาคม 2567
A66: รายละเอียด : ผลการใช้น้ำมันเชื้อเพลิง ประจำเดือน พฤษภาคม 2567 พบว่า ปริมาณการใช้น้ำมันเชื้อเพลิง ลดลง เมื่อเทียบกับปี 2566 จำนวน 48.56 ลิตร เมื่อคิดเป็นเปอร์เซ็นต์/ลิตร จะลดลงเท่ากับ -68.0%
A67: วิเคราะห์สาเหตุ : | C67: เนื่องจากไม่มีการใช้รถเพื่อเดินทางไปราชการต่างจังหวัด
A68: แนวทางจัดการ :
...

Sheet IQS
E1: แบบฟอร์ม 3.2(2)
A2: บันทึกการใช้เชื้อเพลิง
A3: เดือน | B3: วันที่ทำการบันทึก | C3: ปริมาณการใช้น้ำมันดีเซล (ลิตร/เดือน) | D3: ปริมาณการใช้น้ำมันเบนซิน(ลิตร/เดือน) | E3: ค่าใช้จ่าย/เดือน (บาท)
A4: มกราคม | C4: 82.437 | E4: 2530
A5: กุมภาพันธ์ | C5: 23.461 | E5: 720
A6: มีนาคม | C6: 39.181 | E6: 1320
A7: เมษายน | C7: 39.072 | E7: 1600
A8: พฤษภาคม | C8: 48.894 | E8: 2100
A9: มิถุนายน | C9: 106.788 | E9: 4130
A10: กรกฎาคม | C10: 56.54 | E10: 2080
A11: สิงหาคม
A12: กันยายน
A13: ตุลาคม
A14: พฤศจิกายน
A15: ธันวาคม
A16: รวม
A17: เฉลี่ย

Sheet rae
E1: แบบฟอร์ม 3.2(2)
A2: บันทึกการใช้เชื้อเพลิง
A3: เดือน | B3: วันที่ทำการบันทึก | C3: ปริมาณการใช้น้ำมันดีเซล (ลิตร/เดือน) | D3: ปริมาณการใช้น้ำมันเบนซิน(ลิตร/เดือน) | E3: ค่าใช้จ่าย/เดือน (บาท)
A4: มกราคม | C4: 0 | E4: 0
A5: กุมภาพันธ์ | C5: 0 | E5: 0
A6: มีนาคม | C6: 0 | E6: 0
A7: เมษายน | C7: 0 | E7: 0
A8: พฤษภาคม | C8: 0 | E8: 0
A9: มิถุนายน | C9: 0 | E9: 0
A10: กรกฎาคม | C10: 0 | E10: 0
A11: สิงหาคม
A12: กันยายน
A13: ตุลาคม
A14: พฤศจิกายน
A15: ธันวาคม
A16: รวม
A17: เฉลี่ย

Sheet บำรุงรักษา
A2: แผนการบำรุงรักษายานพาหนะ
A3: ลำดับ | B3: รายเอียด | C3: ความถี่ | D3: เดือน | P3: ผู้รับผิดชอบ
D4: ม.ค. | E4: ก.พ. | F4: มี.ค. | G4: เม.ย. | H4: พ.ค. | I4: มิ.ย. | J4: ก.ค. | K4: ส.ค. | L4: ก.ย. | M4: ต.ค. | N4: พ.ย. | O4: ธ.ค.
A5: 1 | B5: ตรวจเช็ครถยนต์ทุกคันก่อนการออกปฏิบัติงาน | C5: ทุกวัน | D5: √ | E5: √ | F5: √ | G5: √ | H5: √ | I5: √ | J5: √ | K5: √ | L5: √ | M5: √ | N5: √ | O5: √ | P5: ผู้ปฏิบัติงาน - พนักงานขับรถยนต์
A7: 2 | B7: นำรถยนต์เข้ารับบริการเพื่อตรวจเช็คตามระยะทาง | C7: 2 ครั้ง/ปี
B9: รถยนต์ตู้หมายเลขทะเบียน นง-8438 เชียงใหม่ | D9: √ | K9: √
B10: รถยนต์กระบะสี่ประตูหมายเลขทะเบียน กล 6465 เชียงใหม่ | D10: √ | K10: √
B13: หมายเหตุ . หากผู้รับผิดชอบตรวจเช็ครถยนต์แล้วพบความผิดปกติ ให้น้ำรถยนต์คันดังกล่าวเข้าศูนย์บริการเพื่อประเมินการซ่อมก่อนครบกำหนดตามแผนที่วางไวได้
B16: จดทำโดย......................................................................... | L16: อนุมัติโดย.........................................................................
B17: (.............................................................) | L17: (.............................................................)
B18: วันที่.......................................................................... | L18: วันที่..........................................................................
